Package: BloodGen3Module Version: 1.17.0 Command: /Library/Frameworks/R.framework/Resources/bin/R CMD check --install=check:BloodGen3Module.install-out.txt --library=/Library/Frameworks/R.framework/Resources/library --no-vignettes --timings BloodGen3Module_1.17.0.tar.gz StartedAt: 2025-10-10 18:28:43 -0400 (Fri, 10 Oct 2025) EndedAt: 2025-10-10 18:30:37 -0400 (Fri, 10 Oct 2025) EllapsedTime: 114.3 seconds RetCode: 0 Status: WARNINGS CheckDir: BloodGen3Module.Rcheck Warnings: 1