Package: Biostrings Version: 2.77.2 Command: /home/biocbuild/bbs-3.22-bioc/R/bin/R CMD INSTALL Biostrings StartedAt: 2025-10-24 15:25:17 -0400 (Fri, 24 Oct 2025) EndedAt: 2025-10-24 15:25:45 -0400 (Fri, 24 Oct 2025) EllapsedTime: 28.0 seconds RetCode: 0 Status: OK