Package: Biostrings Version: 2.77.2 Command: /home/biocbuild/bbs-3.22-bioc/R/bin/R CMD build --keep-empty-dirs --no-resave-data --md5 Biostrings StartedAt: 2025-10-24 16:41:04 -0400 (Fri, 24 Oct 2025) EndedAt: 2025-10-24 16:41:55 -0400 (Fri, 24 Oct 2025) EllapsedTime: 51.0 seconds RetCode: 0 Status: OK PackageFile: Biostrings_2.77.2.tar.gz PackageFileSize: 12.23 MiB