Package: Biostrings Version: 2.79.2 Command: /home/biocbuild/bbs-3.23-bioc/R/bin/R CMD INSTALL Biostrings StartedAt: 2025-11-21 15:15:11 -0500 (Fri, 21 Nov 2025) EndedAt: 2025-11-21 15:15:39 -0500 (Fri, 21 Nov 2025) EllapsedTime: 28.4 seconds RetCode: 0 Status: OK