Package: Biostrings Version: 2.79.2 Command: /home/biocbuild/bbs-3.23-bioc/R/bin/R CMD build --keep-empty-dirs --no-resave-data Biostrings StartedAt: 2025-11-21 16:30:49 -0500 (Fri, 21 Nov 2025) EndedAt: 2025-11-21 16:31:40 -0500 (Fri, 21 Nov 2025) EllapsedTime: 51.0 seconds RetCode: 0 Status: OK PackageFile: Biostrings_2.79.2.tar.gz PackageFileSize: 12.22 MiB