Package: Biostrings Version: 2.79.2 Command: /Library/Frameworks/R.framework/Resources/bin/R CMD INSTALL Biostrings StartedAt: 2025-11-14 15:08:21 -0500 (Fri, 14 Nov 2025) EndedAt: 2025-11-14 15:08:32 -0500 (Fri, 14 Nov 2025) EllapsedTime: 11.0 seconds RetCode: 0 Status: OK