Package: Biostrings Version: 2.79.2 Command: rm -rf Biostrings.buildbin-libdir && mkdir Biostrings.buildbin-libdir && /Users/biocbuild/BBS/utils/build-universal.sh Biostrings_2.79.2.tar.gz /Library/Frameworks/R.framework/Resources/bin/R Biostrings.buildbin-libdir StartedAt: 2025-11-16 23:25:49 -0500 (Sun, 16 Nov 2025) EndedAt: 2025-11-16 23:26:04 -0500 (Sun, 16 Nov 2025) EllapsedTime: 15.4 seconds RetCode: 0 Status: OK PackageFile: Biostrings_2.79.2.tgz PackageFileSize: 13.46 MiB