Package: BiocWorkflowTools Version: 1.37.0 Command: /home/biocbuild/bbs-3.23-bioc/R/bin/R CMD check --install=check:BiocWorkflowTools.install-out.txt --library=/home/biocbuild/bbs-3.23-bioc/R/site-library --timings BiocWorkflowTools_1.37.0.tar.gz StartedAt: 2025-11-02 21:20:15 -0500 (Sun, 02 Nov 2025) EndedAt: 2025-11-02 21:20:40 -0500 (Sun, 02 Nov 2025) EllapsedTime: 25.1 seconds RetCode: 0 Status: OK CheckDir: BiocWorkflowTools.Rcheck Warnings: 0