Package: BiocWorkflowTools Version: 1.37.0 Command: /home/biocbuild/bbs-3.23-bioc/R/bin/R CMD build --keep-empty-dirs --no-resave-data BiocWorkflowTools StartedAt: 2025-10-31 16:45:24 -0400 (Fri, 31 Oct 2025) EndedAt: 2025-10-31 16:45:30 -0400 (Fri, 31 Oct 2025) EllapsedTime: 6.0 seconds RetCode: 0 Status: OK PackageFile: BiocWorkflowTools_1.37.0.tar.gz PackageFileSize: 974.9 KiB