Package: BiocVersion Version: 3.22.0 Command: /home/biocbuild/R/R/bin/R CMD build --keep-empty-dirs --no-resave-data BiocVersion StartedAt: 2025-10-09 23:05:56 -0000 (Thu, 09 Oct 2025) EndedAt: 2025-10-09 23:05:57 -0000 (Thu, 09 Oct 2025) EllapsedTime: 1.0 seconds RetCode: 0 Status: OK PackageFile: BiocVersion_3.22.0.tar.gz PackageFileSize: 998 bytes