Package: BiocVersion Version: 3.22.0 Command: rm -rf BiocVersion.buildbin-libdir && mkdir BiocVersion.buildbin-libdir && F:\biocbuild\bbs-3.22-bioc\R\bin\R.exe CMD INSTALL --build --library=BiocVersion.buildbin-libdir BiocVersion_3.22.0.tar.gz StartedAt: 2025-08-15 09:50:06 -0400 (Fri, 15 Aug 2025) EndedAt: 2025-08-15 09:50:10 -0400 (Fri, 15 Aug 2025) EllapsedTime: 4.2 seconds RetCode: 0 Status: OK PackageFile: BiocVersion_3.22.0.zip PackageFileSize: 8.214 KiB