Package: BiocVersion Version: 3.22.0 Command: /home/biocbuild/bbs-3.22-bioc/R/bin/R CMD INSTALL BiocVersion StartedAt: 2025-10-12 15:03:50 -0400 (Sun, 12 Oct 2025) EndedAt: 2025-10-12 15:04:12 -0400 (Sun, 12 Oct 2025) EllapsedTime: 22.0 seconds RetCode: 0 Status: OK