Package: BiocVersion Version: 3.22.0 Command: /home/biocbuild/bbs-3.22-bioc/R/bin/R CMD check --install=check:BiocVersion.install-out.txt --library=/home/biocbuild/bbs-3.22-bioc/R/site-library --timings BiocVersion_3.22.0.tar.gz StartedAt: 2025-10-12 21:30:30 -0400 (Sun, 12 Oct 2025) EndedAt: 2025-10-12 21:30:45 -0400 (Sun, 12 Oct 2025) EllapsedTime: 15.0 seconds RetCode: 0 Status: OK CheckDir: BiocVersion.Rcheck Warnings: 0