Package: BiocVersion Version: 3.22.0 Command: /home/biocbuild/bbs-3.22-bioc/R/bin/R CMD build --keep-empty-dirs --no-resave-data --md5 BiocVersion StartedAt: 2025-10-12 16:28:03 -0400 (Sun, 12 Oct 2025) EndedAt: 2025-10-12 16:28:04 -0400 (Sun, 12 Oct 2025) EllapsedTime: 1.0 seconds RetCode: 0 Status: OK PackageFile: BiocVersion_3.22.0.tar.gz PackageFileSize: 1.086 KiB