Package: BiocVersion Version: 3.23.1 Command: /home/biocbuild/bbs-3.23-bioc/R/bin/R CMD check --install=check:BiocVersion.install-out.txt --library=/home/biocbuild/bbs-3.23-bioc/R/site-library --timings BiocVersion_3.23.1.tar.gz StartedAt: 2025-11-07 21:24:03 -0500 (Fri, 07 Nov 2025) EndedAt: 2025-11-07 21:24:13 -0500 (Fri, 07 Nov 2025) EllapsedTime: 10.0 seconds RetCode: 0 Status: OK CheckDir: BiocVersion.Rcheck Warnings: 0