Package: BiocVersion Version: 3.23.1 Command: /home/biocbuild/bbs-3.23-bioc/R/bin/R CMD build --keep-empty-dirs --no-resave-data BiocVersion StartedAt: 2025-11-07 16:28:15 -0500 (Fri, 07 Nov 2025) EndedAt: 2025-11-07 16:28:16 -0500 (Fri, 07 Nov 2025) EllapsedTime: 1.0 seconds RetCode: 0 Status: OK PackageFile: BiocVersion_3.23.1.tar.gz PackageFileSize: 995 bytes