Package: BiocStyle Version: 2.39.0 Command: /home/biocbuild/bbs-3.23-bioc/R/bin/R CMD INSTALL BiocStyle StartedAt: 2025-10-31 15:15:01 -0400 (Fri, 31 Oct 2025) EndedAt: 2025-10-31 15:15:40 -0400 (Fri, 31 Oct 2025) EllapsedTime: 38.8 seconds RetCode: 0 Status: OK