Package: BiocStyle Version: 2.37.1 Command: /Library/Frameworks/R.framework/Resources/bin/R CMD INSTALL BiocStyle StartedAt: 2025-10-08 15:13:11 -0400 (Wed, 08 Oct 2025) EndedAt: 2025-10-08 15:13:59 -0400 (Wed, 08 Oct 2025) EllapsedTime: 47.7 seconds RetCode: 0 Status: OK