Package: BiocStyle Version: 2.37.1 Command: /Library/Frameworks/R.framework/Resources/bin/R CMD build --keep-empty-dirs --no-resave-data BiocStyle StartedAt: 2025-10-08 16:16:11 -0400 (Wed, 08 Oct 2025) EndedAt: 2025-10-08 16:16:31 -0400 (Wed, 08 Oct 2025) EllapsedTime: 20.6 seconds RetCode: 0 Status: OK PackageFile: BiocStyle_2.37.1.tar.gz PackageFileSize: 775.2 KiB