Package: BiocStyle Version: 2.37.1 Command: rm -rf BiocStyle.buildbin-libdir && mkdir BiocStyle.buildbin-libdir && /Users/biocbuild/BBS/utils/build-universal.sh BiocStyle_2.37.1.tar.gz /Library/Frameworks/R.framework/Resources/bin/R BiocStyle.buildbin-libdir StartedAt: 2025-10-09 02:21:28 -0400 (Thu, 09 Oct 2025) EndedAt: 2025-10-09 02:21:36 -0400 (Thu, 09 Oct 2025) EllapsedTime: 8.2 seconds RetCode: 0 Status: OK PackageFile: BiocStyle_2.37.1.tgz PackageFileSize: 835.8 KiB