Back to Build/check report for BioC 3.23:   simplified   long
A[B]CDEFGHIJKLMNOPQRSTUVWXYZ

This page was generated on 2025-10-31 08:34 -0400 (Fri, 31 Oct 2025).

HostnameOSArch (*)R versionInstalled pkgs
nebbiolo1Linux (Ubuntu 24.04.3 LTS)x86_64R Under development (unstable) (2025-10-20 r88955) -- "Unsuffered Consequences" 4428
Click on any hostname to see more info about the system (e.g. compilers)      (*) as reported by 'uname -p', except on Windows and Mac OS X

All results for package BiocStyle


To the developers/maintainers of the BiocStyle package:
- Allow up to 24 hours (and sometimes 48 hours) for your latest push to git@git.bioconductor.org:packages/BiocStyle.git to reflect on this report. See Troubleshooting Build Report for more information.
- Use the following Renviron settings to reproduce errors and warnings.
- If 'R CMD check' started to fail recently on the Linux builder(s) over a missing dependency, add the missing dependency to 'Suggests:' in your DESCRIPTION file. See Renviron.bioc for more information.

raw results

Package 202/2321HostnameOS / ArchINSTALLBUILDCHECKBUILD BIN
BiocStyle 2.39.0  (landing page)
Bioconductor Package Maintainer
Snapshot Date: 2025-10-30 13:40 -0400 (Thu, 30 Oct 2025)
git_url: https://git.bioconductor.org/packages/BiocStyle
git_branch: devel
git_last_commit: 126f794
git_last_commit_date: 2025-10-29 10:15:25 -0400 (Wed, 29 Oct 2025)
nebbiolo1Linux (Ubuntu 24.04.3 LTS) / x86_64  OK    OK    OK  YES



Results for Bioconductor software packages that depend directly on package BiocStyle

QUICK STATSOS / ArchINSTALLBUILDCHECKBUILD BIN
nebbiolo1Linux (Ubuntu 24.04.3 LTS) / x86_64
0932
01031
03523
Package 1/41HostnameOS / ArchINSTALLBUILDCHECKBUILD BIN
abseqR 1.29.0  (landing page)
JiaHong Fong
git_last_commit: 89ae70b
git_last_commit_date: 2025-10-29 10:48:45 -0400
nebbiolo1Linux (Ubuntu 24.04.3 LTS) / x86_64  OK    OK    OK  YES
Package 2/41HostnameOS / ArchINSTALLBUILDCHECKBUILD BIN
ASpli 2.21.0  (landing page)
Ariel Chernomoretz
git_last_commit: 6fd6add
git_last_commit_date: 2025-10-29 10:33:32 -0400
nebbiolo1Linux (Ubuntu 24.04.3 LTS) / x86_64  OK    OK    WARNINGS  NO, package depends on 'AnnotationDbi' which is not available
Package 3/41HostnameOS / ArchINSTALLBUILDCHECKBUILD BIN
bandle 1.15.0  (landing page)
Oliver M. Crook
git_last_commit: 36c7c56
git_last_commit_date: 2025-10-29 11:16:12 -0400
nebbiolo1Linux (Ubuntu 24.04.3 LTS) / x86_64  OK    OK    WARNINGS  NO, package depends on 'MSnbase' which is not available
Package 4/41HostnameOS / ArchINSTALLBUILDCHECKBUILD BIN
BiocWorkflowTools 1.37.0  (landing page)
Mike Smith
git_last_commit: 23b271e
git_last_commit_date: 2025-10-29 10:34:19 -0400
nebbiolo1Linux (Ubuntu 24.04.3 LTS) / x86_64  OK    OK    OK  YES
Package 5/41HostnameOS / ArchINSTALLBUILDCHECKBUILD BIN
BioGA 1.5.0  (landing page)
Dany Mukesha
git_last_commit: 7c8e9a3
git_last_commit_date: 2025-10-29 11:30:53 -0400
nebbiolo1Linux (Ubuntu 24.04.3 LTS) / x86_64  OK    OK    OK  NO, package depends on 'SummarizedExperiment' which is not available
Package 6/41HostnameOS / ArchINSTALLBUILDCHECKBUILD BIN
BPRMeth 1.37.0  (landing page)
Chantriolnt-Andreas Kapourani
git_last_commit: bb441a5
git_last_commit_date: 2025-10-29 10:35:38 -0400
nebbiolo1Linux (Ubuntu 24.04.3 LTS) / x86_64  OK    OK    ERROR  
Package 7/41HostnameOS / ArchINSTALLBUILDCHECKBUILD BIN
broadSeq 1.5.0  (landing page)
Rishi Das Roy
git_last_commit: f8280c0
git_last_commit_date: 2025-10-29 11:30:34 -0400
nebbiolo1Linux (Ubuntu 24.04.3 LTS) / x86_64  OK    OK    WARNINGS  NO, package depends on 'SummarizedExperiment' which is not available
Package 8/41HostnameOS / ArchINSTALLBUILDCHECKBUILD BIN
BubbleTree 2.41.0  (landing page)
Todd Creasy , Wei Zhu
git_last_commit: ec3708e
git_last_commit_date: 2025-10-29 10:24:01 -0400
nebbiolo1Linux (Ubuntu 24.04.3 LTS) / x86_64  OK    ERROR  skipped
Package 9/41HostnameOS / ArchINSTALLBUILDCHECKBUILD BIN
chimeraviz 1.37.0  (landing page)
Stian Lågstad
git_last_commit: 3490116
git_last_commit_date: 2025-10-29 10:35:50 -0400
nebbiolo1Linux (Ubuntu 24.04.3 LTS) / x86_64  ERROR    ERROR  skipped
Package 10/41HostnameOS / ArchINSTALLBUILDCHECKBUILD BIN
COMPASS 1.49.0  (landing page)
Greg Finak
git_last_commit: 43c7ae7
git_last_commit_date: 2025-10-29 10:18:03 -0400
nebbiolo1Linux (Ubuntu 24.04.3 LTS) / x86_64  OK    OK    OK  YES
Package 11/41HostnameOS / ArchINSTALLBUILDCHECKBUILD BIN
DiscoRhythm 1.27.0  (landing page)
Matthew Carlucci
git_last_commit: 15d7b60
git_last_commit_date: 2025-10-29 10:51:20 -0400
nebbiolo1Linux (Ubuntu 24.04.3 LTS) / x86_64  OK    OK    OK  NO, package depends on 'SummarizedExperiment' which is not available
Package 12/41HostnameOS / ArchINSTALLBUILDCHECKBUILD BIN
EasyCellType 1.13.0  (landing page)
Ruoxing Li
git_last_commit: a923d4a
git_last_commit_date: 2025-10-29 11:18:20 -0400
nebbiolo1Linux (Ubuntu 24.04.3 LTS) / x86_64  ERROR    ERROR  skipped
Package 13/41HostnameOS / ArchINSTALLBUILDCHECKBUILD BIN
ExpressionAtlas 2.3.0  (landing page)
Anil Thanki
git_last_commit: a94288f
git_last_commit_date: 2025-10-29 10:30:04 -0400
nebbiolo1Linux (Ubuntu 24.04.3 LTS) / x86_64  OK    OK    OK  NO, package depends on 'SummarizedExperiment' which is not available
Package 14/41HostnameOS / ArchINSTALLBUILDCHECKBUILD BIN
gDRstyle 1.9.1  (landing page)
Arkadiusz Gladki
git_last_commit: 25af3a5
git_last_commit_date: 2025-10-30 05:33:37 -0400
nebbiolo1Linux (Ubuntu 24.04.3 LTS) / x86_64  OK    OK    OK  NO, package depends on 'BiocCheck' which is not available
Package 15/41HostnameOS / ArchINSTALLBUILDCHECKBUILD BIN
geneXtendeR 1.37.0  (landing page)
Bohdan Khomtchouk
git_last_commit: 3751da6
git_last_commit_date: 2025-10-29 10:34:47 -0400
nebbiolo1Linux (Ubuntu 24.04.3 LTS) / x86_64  ERROR    OK    ERROR  
Package 16/41HostnameOS / ArchINSTALLBUILDCHECKBUILD BIN
geyser 1.3.0  (landing page)
David McGaughey
git_last_commit: 339131f
git_last_commit_date: 2025-10-29 11:33:40 -0400
nebbiolo1Linux (Ubuntu 24.04.3 LTS) / x86_64  OK    OK    OK  NO, package depends on 'ComplexHeatmap' which is not available
Package 17/41HostnameOS / ArchINSTALLBUILDCHECKBUILD BIN
hdxmsqc 1.7.0  (landing page)
Oliver M. Crook
git_last_commit: 1520631
git_last_commit_date: 2025-10-29 11:29:31 -0400
nebbiolo1Linux (Ubuntu 24.04.3 LTS) / x86_64  OK    OK    OK  NO, package depends on 'QFeatures' which is not available
Package 18/41HostnameOS / ArchINSTALLBUILDCHECKBUILD BIN
iNETgrate 1.9.0  (landing page)
Habil Zare
git_last_commit: 81fc611
git_last_commit_date: 2025-10-29 11:23:49 -0400
nebbiolo1Linux (Ubuntu 24.04.3 LTS) / x86_64  ERROR    ERROR  skipped
Package 19/41HostnameOS / ArchINSTALLBUILDCHECKBUILD BIN
Melissa 1.27.0  (landing page)
C. A. Kapourani
git_last_commit: da38db7
git_last_commit_date: 2025-10-29 10:49:49 -0400
nebbiolo1Linux (Ubuntu 24.04.3 LTS) / x86_64  OK    OK    OK  NO, package depends on 'BPRMeth' which is not available
Package 20/41HostnameOS / ArchINSTALLBUILDCHECKBUILD BIN
meshr 2.17.0  (landing page)
Koki Tsuyuzaki
git_last_commit: edcebb9
git_last_commit_date: 2025-10-29 10:19:23 -0400
nebbiolo1Linux (Ubuntu 24.04.3 LTS) / x86_64  OK    OK    OK  NO, package depends on 'MeSHDbi' which is not available
Package 21/41HostnameOS / ArchINSTALLBUILDCHECKBUILD BIN
methodical 1.7.0  (landing page)
Richard Heery
git_last_commit: ca1b149
git_last_commit_date: 2025-10-29 11:27:18 -0400
nebbiolo1Linux (Ubuntu 24.04.3 LTS) / x86_64  ERROR    ERROR  skipped
Package 22/41HostnameOS / ArchINSTALLBUILDCHECKBUILD BIN
MSnID 1.45.0  (landing page)
Vlad Petyuk
git_last_commit: 7607478
git_last_commit_date: 2025-10-29 10:21:36 -0400
nebbiolo1Linux (Ubuntu 24.04.3 LTS) / x86_64  OK    OK    OK  NO, package depends on 'MSnbase' which is not available
Package 23/41HostnameOS / ArchINSTALLBUILDCHECKBUILD BIN
netboost 2.19.0  (landing page)
Pascal Schlosser
git_last_commit: cd295da
git_last_commit_date: 2025-10-29 10:52:20 -0400
nebbiolo1Linux (Ubuntu 24.04.3 LTS) / x86_64  OK    OK    WARNINGS  YES
Package 24/41HostnameOS / ArchINSTALLBUILDCHECKBUILD BIN
netresponse 1.71.0  (landing page)
Leo Lahti
git_last_commit: 8295054
git_last_commit_date: 2025-10-29 10:05:48 -0400
nebbiolo1Linux (Ubuntu 24.04.3 LTS) / x86_64  OK    OK    OK  YES
Package 25/41HostnameOS / ArchINSTALLBUILDCHECKBUILD BIN
partCNV 1.9.0  (landing page)
Ziyi Li
git_last_commit: 1e12803
git_last_commit_date: 2025-10-29 11:23:33 -0400
nebbiolo1Linux (Ubuntu 24.04.3 LTS) / x86_64  OK    OK    OK  NO, package depends on 'SingleCellExperiment' which is not available
Package 26/41HostnameOS / ArchINSTALLBUILDCHECKBUILD BIN
PathoStat 1.37.0  (landing page)
Solaiappan Manimaran
git_last_commit: b2188f7
git_last_commit_date: 2025-10-29 10:34:57 -0400
nebbiolo1Linux (Ubuntu 24.04.3 LTS) / x86_64  OK    OK    OK  NO, package depends on 'phyloseq' which is not available
Package 27/41HostnameOS / ArchINSTALLBUILDCHECKBUILD BIN
PhyloProfile 2.3.0  (landing page)
Vinh Tran
git_last_commit: 0517900
git_last_commit_date: 2025-10-29 10:53:26 -0400
nebbiolo1Linux (Ubuntu 24.04.3 LTS) / x86_64  OK    OK    OK  NO, package depends on 'Biostrings' which is not available
Package 28/41HostnameOS / ArchINSTALLBUILDCHECKBUILD BIN
Pigengene 1.37.0  (landing page)
Habil Zare
git_last_commit: b4e2edc
git_last_commit_date: 2025-10-29 10:32:29 -0400
nebbiolo1Linux (Ubuntu 24.04.3 LTS) / x86_64  ERROR    ERROR  skipped
Package 29/41HostnameOS / ArchINSTALLBUILDCHECKBUILD BIN
PLSDAbatch 1.7.0  (landing page)
Yiwen (Eva) Wang
git_last_commit: 744879e
git_last_commit_date: 2025-10-29 11:26:59 -0400
nebbiolo1Linux (Ubuntu 24.04.3 LTS) / x86_64  OK    OK    OK  NO, package depends on 'TreeSummarizedExperiment' which is not available
Package 30/41HostnameOS / ArchINSTALLBUILDCHECKBUILD BIN
rebook 1.21.0  (landing page)
Aaron Lun
git_last_commit: e92cb4e
git_last_commit_date: 2025-10-29 11:01:27 -0400
nebbiolo1Linux (Ubuntu 24.04.3 LTS) / x86_64  OK    ERROR  skipped
Package 31/41HostnameOS / ArchINSTALLBUILDCHECKBUILD BIN
RegEnrich 1.21.0  (landing page)
Weiyang Tao
git_last_commit: 73e2009
git_last_commit_date: 2025-10-29 11:00:04 -0400
nebbiolo1Linux (Ubuntu 24.04.3 LTS) / x86_64  OK    OK    OK  NO, package depends on 'BiocSet' which is not available
Package 32/41HostnameOS / ArchINSTALLBUILDCHECKBUILD BIN
RegionalST 1.9.0  (landing page)
Ziyi Li
git_last_commit: e3a23f6
git_last_commit_date: 2025-10-29 11:24:31 -0400
nebbiolo1Linux (Ubuntu 24.04.3 LTS) / x86_64  OK    OK    OK  NO, package depends on 'scater' which is not available
Package 33/41HostnameOS / ArchINSTALLBUILDCHECKBUILD BIN
regionReport 1.45.0  (landing page)
Leonardo Collado-Torres
git_last_commit: b61d8a3
git_last_commit_date: 2025-10-29 10:21:56 -0400
nebbiolo1Linux (Ubuntu 24.04.3 LTS) / x86_64  OK    OK    ERROR  
Package 34/41HostnameOS / ArchINSTALLBUILDCHECKBUILD BIN
Rmmquant 1.29.0  (landing page)
Zytnicki Matthias
git_last_commit: b7f3f59
git_last_commit_date: 2025-10-29 10:45:50 -0400
nebbiolo1Linux (Ubuntu 24.04.3 LTS) / x86_64  ERROR    ERROR  skipped
Package 35/41HostnameOS / ArchINSTALLBUILDCHECKBUILD BIN
RPA 1.67.0  (landing page)
Leo Lahti
git_last_commit: ae57fb9
git_last_commit_date: 2025-10-29 10:03:12 -0400
nebbiolo1Linux (Ubuntu 24.04.3 LTS) / x86_64  OK    OK    OK  NO, package depends on 'affy' which is not available
Package 36/41HostnameOS / ArchINSTALLBUILDCHECKBUILD BIN
Rqc 1.45.0  (landing page)
Welliton Souza
git_last_commit: 81cf3fd
git_last_commit_date: 2025-10-29 10:22:46 -0400
nebbiolo1Linux (Ubuntu 24.04.3 LTS) / x86_64  OK    OK    OK  NO, package depends on 'ShortRead' which is not available
Package 37/41HostnameOS / ArchINSTALLBUILDCHECKBUILD BIN
sangeranalyseR 1.21.0  (landing page)
Kuan-Hao Chao
git_last_commit: 7e0ce60
git_last_commit_date: 2025-10-29 10:59:40 -0400
nebbiolo1Linux (Ubuntu 24.04.3 LTS) / x86_64  ERROR    ERROR  skipped
Package 38/41HostnameOS / ArchINSTALLBUILDCHECKBUILD BIN
scMET 1.13.0  (landing page)
Andreas C. Kapourani
git_last_commit: 5af0e5e
git_last_commit_date: 2025-10-29 11:17:57 -0400
nebbiolo1Linux (Ubuntu 24.04.3 LTS) / x86_64  OK    OK    OK  NO, package depends on 'SummarizedExperiment' which is not available
Package 39/41HostnameOS / ArchINSTALLBUILDCHECKBUILD BIN
scTensor 2.21.0  (landing page)
Koki Tsuyuzaki
git_last_commit: 63a2564
git_last_commit_date: 2025-10-29 10:49:00 -0400
nebbiolo1Linux (Ubuntu 24.04.3 LTS) / x86_64  ERROR    ERROR  skipped
Package 40/41HostnameOS / ArchINSTALLBUILDCHECKBUILD BIN
scTGIF 1.25.0  (landing page)
Koki Tsuyuzaki
git_last_commit: f7ab3ab
git_last_commit_date: 2025-10-29 10:55:37 -0400
nebbiolo1Linux (Ubuntu 24.04.3 LTS) / x86_64  OK    OK    OK  NO, package depends on 'GSEABase' which is not available
Package 41/41HostnameOS / ArchINSTALLBUILDCHECKBUILD BIN
srnadiff 1.31.0  (landing page)
Zytnicki Matthias
git_last_commit: 680956d
git_last_commit_date: 2025-10-29 10:43:01 -0400
nebbiolo1Linux (Ubuntu 24.04.3 LTS) / x86_64  OK    OK    WARNINGS  NO, package depends on 'Seqinfo' which is not available