Package: BiocSklearn Version: 1.31.0 Command: /home/biocbuild/R/R/bin/R CMD INSTALL BiocSklearn StartedAt: 2025-10-13 20:53:04 -0000 (Mon, 13 Oct 2025) EndedAt: 2025-10-13 20:53:33 -0000 (Mon, 13 Oct 2025) EllapsedTime: 29.7 seconds RetCode: 0 Status: OK