Package: BiocSklearn Version: 1.31.0 Command: /home/biocbuild/R/R/bin/R CMD build --keep-empty-dirs --no-resave-data BiocSklearn StartedAt: 2025-10-16 23:33:43 -0000 (Thu, 16 Oct 2025) EndedAt: 2025-10-16 23:34:29 -0000 (Thu, 16 Oct 2025) EllapsedTime: 46.0 seconds RetCode: 0 Status: OK PackageFile: BiocSklearn_1.31.0.tar.gz PackageFileSize: 32.54 MiB