Package: BiocSklearn Version: 1.33.0 Command: /home/biocbuild/bbs-3.23-bioc/R/bin/R CMD INSTALL BiocSklearn StartedAt: 2025-11-05 15:24:57 -0500 (Wed, 05 Nov 2025) EndedAt: 2025-11-05 15:25:19 -0500 (Wed, 05 Nov 2025) EllapsedTime: 21.9 seconds RetCode: 0 Status: OK