Package: BiocSklearn Version: 1.33.0 Command: /home/biocbuild/bbs-3.23-bioc/R/bin/R CMD check --install=check:BiocSklearn.install-out.txt --library=/home/biocbuild/bbs-3.23-bioc/R/site-library --timings BiocSklearn_1.33.0.tar.gz StartedAt: 2025-11-14 21:27:59 -0500 (Fri, 14 Nov 2025) EndedAt: 2025-11-14 21:30:53 -0500 (Fri, 14 Nov 2025) EllapsedTime: 173.3 seconds RetCode: 0 Status: OK CheckDir: BiocSklearn.Rcheck Warnings: 0