Package: BiocSingular Version: 1.25.0 Command: /home/biocbuild/bbs-3.22-bioc/R/bin/R CMD INSTALL BiocSingular StartedAt: 2025-10-16 16:54:54 -0400 (Thu, 16 Oct 2025) EndedAt: 2025-10-16 16:55:22 -0400 (Thu, 16 Oct 2025) EllapsedTime: 28.7 seconds RetCode: 0 Status: OK