Package: BiocSingular Version: 1.27.0 Command: /home/biocbuild/bbs-3.23-bioc/R/bin/R CMD INSTALL BiocSingular StartedAt: 2025-11-11 15:56:05 -0500 (Tue, 11 Nov 2025) EndedAt: 2025-11-11 15:56:33 -0500 (Tue, 11 Nov 2025) EllapsedTime: 28.4 seconds RetCode: 0 Status: OK