Package: BiocSingular Version: 1.27.0 Command: /home/biocbuild/bbs-3.23-bioc/R/bin/R CMD build --keep-empty-dirs --no-resave-data BiocSingular StartedAt: 2025-11-11 16:32:18 -0500 (Tue, 11 Nov 2025) EndedAt: 2025-11-11 16:32:56 -0500 (Tue, 11 Nov 2025) EllapsedTime: 38.0 seconds RetCode: 0 Status: OK PackageFile: BiocSingular_1.27.0.tar.gz PackageFileSize: 602.6 KiB