Package: BiocSingular Version: 1.25.0 Command: /Library/Frameworks/R.framework/Resources/bin/R CMD INSTALL BiocSingular StartedAt: 2025-10-16 16:14:03 -0400 (Thu, 16 Oct 2025) EndedAt: 2025-10-16 16:14:41 -0400 (Thu, 16 Oct 2025) EllapsedTime: 37.6 seconds RetCode: 0 Status: OK