Package: BiocSingular Version: 1.25.0 Command: /Library/Frameworks/R.framework/Resources/bin/R CMD build --keep-empty-dirs --no-resave-data BiocSingular StartedAt: 2025-10-17 16:13:57 -0400 (Fri, 17 Oct 2025) EndedAt: 2025-10-17 16:14:46 -0400 (Fri, 17 Oct 2025) EllapsedTime: 49.3 seconds RetCode: 0 Status: OK PackageFile: BiocSingular_1.25.0.tar.gz PackageFileSize: 602.2 KiB