Package: BiocSingular Version: 1.25.0 Command: /Library/Frameworks/R.framework/Resources/bin/R CMD INSTALL BiocSingular StartedAt: 2025-10-14 15:28:41 -0400 (Tue, 14 Oct 2025) EndedAt: 2025-10-14 15:28:51 -0400 (Tue, 14 Oct 2025) EllapsedTime: 9.9 seconds RetCode: 0 Status: OK