Package: BiocSingular Version: 1.25.0 Command: /Library/Frameworks/R.framework/Resources/bin/R CMD build --keep-empty-dirs --no-resave-data BiocSingular StartedAt: 2025-10-14 15:45:49 -0400 (Tue, 14 Oct 2025) EndedAt: 2025-10-14 15:46:05 -0400 (Tue, 14 Oct 2025) EllapsedTime: 15.2 seconds RetCode: 0 Status: OK PackageFile: BiocSingular_1.25.0.tar.gz PackageFileSize: 602.1 KiB