Package: BiocSingular Version: 1.25.0 Command: rm -rf BiocSingular.buildbin-libdir && mkdir BiocSingular.buildbin-libdir && /Users/biocbuild/BBS/utils/build-universal.sh BiocSingular_1.25.0.tar.gz /Library/Frameworks/R.framework/Resources/bin/R BiocSingular.buildbin-libdir StartedAt: 2025-10-15 22:38:31 -0400 (Wed, 15 Oct 2025) EndedAt: 2025-10-15 22:38:42 -0400 (Wed, 15 Oct 2025) EllapsedTime: 11.2 seconds RetCode: 0 Status: OK PackageFile: BiocSingular_1.25.0.tgz PackageFileSize: 925.8 KiB