Package: BiocSingular Version: 1.27.0 Maintainer: Aaron Lun MaintainerEmail: infinite.monkeys.with.keyboards at gmail.com git_url: https://git.bioconductor.org/packages/BiocSingular git_branch: devel git_last_commit: 2f19618 git_last_commit_date: 2025-10-29 10:50:05 -0400 (Wed, 29 Oct 2025)