Package: BiocSet Version: 1.23.0 Command: /home/biocbuild/R/R/bin/R CMD INSTALL BiocSet StartedAt: 2025-10-16 21:39:46 -0000 (Thu, 16 Oct 2025) EndedAt: 2025-10-16 21:40:08 -0000 (Thu, 16 Oct 2025) EllapsedTime: 21.7 seconds RetCode: 0 Status: OK