Package: BiocSet Version: 1.23.0 Command: /home/biocbuild/R/R/bin/R CMD build --keep-empty-dirs --no-resave-data BiocSet StartedAt: 2025-10-16 23:33:08 -0000 (Thu, 16 Oct 2025) EndedAt: 2025-10-16 23:35:55 -0000 (Thu, 16 Oct 2025) EllapsedTime: 166.1 seconds RetCode: 0 Status: OK PackageFile: BiocSet_1.23.0.tar.gz PackageFileSize: 427 KiB