Package: BiocSet Version: 1.23.0 Command: /home/biocbuild/bbs-3.22-bioc/R/bin/R CMD check --install=check:BiocSet.install-out.txt --library=/home/biocbuild/bbs-3.22-bioc/R/site-library --timings BiocSet_1.23.0.tar.gz StartedAt: 2025-10-15 22:11:05 -0400 (Wed, 15 Oct 2025) EndedAt: 2025-10-15 22:21:14 -0400 (Wed, 15 Oct 2025) EllapsedTime: 608.8 seconds RetCode: 0 Status: OK CheckDir: BiocSet.Rcheck Warnings: 0