Package: BiocSet Version: 1.25.0 Command: /home/biocbuild/bbs-3.23-bioc/R/bin/R CMD INSTALL BiocSet StartedAt: 2025-11-04 15:24:42 -0500 (Tue, 04 Nov 2025) EndedAt: 2025-11-04 15:24:57 -0500 (Tue, 04 Nov 2025) EllapsedTime: 15.5 seconds RetCode: 0 Status: OK