Package: BiocSet Version: 1.25.0 Command: /home/biocbuild/bbs-3.23-bioc/R/bin/R CMD build --keep-empty-dirs --no-resave-data BiocSet StartedAt: 2025-11-05 16:34:29 -0500 (Wed, 05 Nov 2025) EndedAt: 2025-11-05 16:36:28 -0500 (Wed, 05 Nov 2025) EllapsedTime: 119.1 seconds RetCode: 0 Status: OK PackageFile: BiocSet_1.25.0.tar.gz PackageFileSize: 359 KiB