Package: BiocPkgTools Version: 1.27.12 Command: /home/biocbuild/R/R/bin/R CMD INSTALL BiocPkgTools StartedAt: 2025-10-13 20:48:58 -0000 (Mon, 13 Oct 2025) EndedAt: 2025-10-13 20:49:13 -0000 (Mon, 13 Oct 2025) EllapsedTime: 15.3 seconds RetCode: 0 Status: OK