Package: BiocPkgTools Version: 1.29.2 Command: /home/biocbuild/bbs-3.23-bioc/R/bin/R CMD INSTALL BiocPkgTools StartedAt: 2025-11-20 15:13:30 -0500 (Thu, 20 Nov 2025) EndedAt: 2025-11-20 15:13:40 -0500 (Thu, 20 Nov 2025) EllapsedTime: 10.9 seconds RetCode: 0 Status: OK