Package: BiocPkgTools Version: 1.29.2 Command: /home/biocbuild/bbs-3.23-bioc/R/bin/R CMD build --keep-empty-dirs --no-resave-data BiocPkgTools StartedAt: 2025-11-20 16:28:30 -0500 (Thu, 20 Nov 2025) EndedAt: 2025-11-20 16:30:06 -0500 (Thu, 20 Nov 2025) EllapsedTime: 96.1 seconds RetCode: 0 Status: OK PackageFile: BiocPkgTools_1.29.2.tar.gz PackageFileSize: 1.462 MiB