Package: BiocParallel Version: 1.45.0 Command: /home/biocbuild/bbs-3.23-bioc/R/bin/R CMD check --install=check:BiocParallel.install-out.txt --library=/home/biocbuild/bbs-3.23-bioc/R/site-library --timings BiocParallel_1.45.0.tar.gz StartedAt: 2025-11-07 21:23:09 -0500 (Fri, 07 Nov 2025) EndedAt: 2025-11-07 21:29:50 -0500 (Fri, 07 Nov 2025) EllapsedTime: 400.7 seconds RetCode: 0 Status: OK CheckDir: BiocParallel.Rcheck Warnings: 0