Package: BiocParallel Version: 1.43.4 Command: /Library/Frameworks/R.framework/Resources/bin/R CMD check --install=check:BiocParallel.install-out.txt --library=/Library/Frameworks/R.framework/Resources/library --no-vignettes --timings BiocParallel_1.43.4.tar.gz StartedAt: 2025-10-15 18:30:17 -0400 (Wed, 15 Oct 2025) EndedAt: 2025-10-15 18:34:14 -0400 (Wed, 15 Oct 2025) EllapsedTime: 236.7 seconds RetCode: 0 Status: OK CheckDir: BiocParallel.Rcheck Warnings: 0