Package: BiocNeighbors Version: 2.5.0 Command: /home/biocbuild/bbs-3.23-bioc/R/bin/R CMD build --keep-empty-dirs --no-resave-data BiocNeighbors StartedAt: 2025-11-20 16:28:26 -0500 (Thu, 20 Nov 2025) EndedAt: 2025-11-20 16:29:15 -0500 (Thu, 20 Nov 2025) EllapsedTime: 49.0 seconds RetCode: 0 Status: OK PackageFile: BiocNeighbors_2.5.0.tar.gz PackageFileSize: 328.9 KiB