Package: BiocNeighbors Version: 2.3.1 Command: /Library/Frameworks/R.framework/Resources/bin/R CMD build --keep-empty-dirs --no-resave-data BiocNeighbors StartedAt: 2025-10-24 16:18:33 -0400 (Fri, 24 Oct 2025) EndedAt: 2025-10-24 16:19:24 -0400 (Fri, 24 Oct 2025) EllapsedTime: 50.4 seconds RetCode: 0 Status: OK PackageFile: BiocNeighbors_2.3.1.tar.gz PackageFileSize: 328.8 KiB