Package: BiocNeighbors Version: 2.3.1 Command: rm -rf BiocNeighbors.buildbin-libdir && mkdir BiocNeighbors.buildbin-libdir && /Users/biocbuild/BBS/utils/build-universal.sh BiocNeighbors_2.3.1.tar.gz /Library/Frameworks/R.framework/Resources/bin/R BiocNeighbors.buildbin-libdir StartedAt: 2025-10-25 01:29:52 -0400 (Sat, 25 Oct 2025) EndedAt: 2025-10-25 01:30:40 -0400 (Sat, 25 Oct 2025) EllapsedTime: 47.4 seconds RetCode: 0 Status: OK PackageFile: BiocNeighbors_2.3.1.tgz PackageFileSize: 701.7 KiB