Package: BiocNeighbors Version: 2.3.1 Command: /Library/Frameworks/R.framework/Resources/bin/R CMD INSTALL BiocNeighbors StartedAt: 2025-10-06 15:01:44 -0400 (Mon, 06 Oct 2025) EndedAt: 2025-10-06 15:01:59 -0400 (Mon, 06 Oct 2025) EllapsedTime: 15.0 seconds RetCode: 0 Status: OK