Package: BiocNeighbors Version: 2.3.1 Command: rm -rf BiocNeighbors.buildbin-libdir && mkdir BiocNeighbors.buildbin-libdir && /Users/biocbuild/BBS/utils/build-universal.sh BiocNeighbors_2.3.1.tar.gz /Library/Frameworks/R.framework/Resources/bin/R BiocNeighbors.buildbin-libdir StartedAt: 2025-10-05 22:35:45 -0400 (Sun, 05 Oct 2025) EndedAt: 2025-10-05 22:35:57 -0400 (Sun, 05 Oct 2025) EllapsedTime: 12.3 seconds RetCode: 0 Status: OK PackageFile: BiocNeighbors_2.3.1.tgz PackageFileSize: 683 KiB