Package: BiocIO Version: 1.19.0 Command: /home/biocbuild/R/R/bin/R CMD INSTALL BiocIO StartedAt: 2025-10-20 20:24:26 -0000 (Mon, 20 Oct 2025) EndedAt: 2025-10-20 20:24:36 -0000 (Mon, 20 Oct 2025) EllapsedTime: 9.7 seconds RetCode: 0 Status: OK